BEGIN:VCALENDAR
VERSION:2.0
PRODID:-//DER OFFENE MUND - ECPv5.2.0//NONSGML v1.0//EN
CALSCALE:GREGORIAN
METHOD:PUBLISH
X-WR-CALNAME:DER OFFENE MUND
X-ORIGINAL-URL:https://deroffenemund.de
X-WR-CALDESC:Events for DER OFFENE MUND
BEGIN:VTIMEZONE
TZID:UTC
BEGIN:STANDARD
TZOFFSETFROM:+0000
TZOFFSETTO:+0000
TZNAME:UTC
DTSTART:20210101T000000
END:STANDARD
END:VTIMEZONE
BEGIN:VEVENT
DTSTART;TZID=UTC:20210126T110000
DTEND;TZID=UTC:20210126T130000
DTSTAMP:20260421T130755
CREATED:20201022T154845Z
LAST-MODIFIED:20210116T153422Z
UID:369-1611658800-1611666000@deroffenemund.de
SUMMARY:Nonknowledge\, Laughter and The Moving Image Part 2\, Day 3\, Artist Talk and discussion with Kiona Hagen Niehaus
DESCRIPTION:Online Artist Talk and discussion with Kiona Hagen Niehaus \n  \n\nWhere: ZOOM  Please email talks@nonknowledge.org to receive the link to the meeting.\n\n11.00 Tue 26 Jan 2021\n\n\n Kiona Hagen Niehaus (http://www.kh-niehaus.com) is an artist\, software creator\, and UX designer living in Berlin. She recently completed her PhD in the Computing Department at Goldsmiths\, University of London\, where she worked with Dr. Rebecca Fiebrink. Her research explores the development of software tools for creating 3D human figures for artistic applications. Her prototyped software\, CreatorCustom\, emphasizes exploration\, abstraction\, and evocative human embodiment\, and questions the role software may take in creating digital artwork. \nHer artistic work spans 3D animation\, photography\, video\, sensor-based interactive systems\, textiles\, sound\, and performance\, in order to create immersive\, evocative artwork. She uses her artwork to discuss community\, interpersonal\, and wider social dynamics related to sexuality\, gender\, and pain\, among other topics. She is a collaborator with COVEN Berlin (https://www.covenberlin.com). Kiona grew up in rural Washington state (USA)\, and holds a BFA in Photography from Pratt Institute (Brooklyn\, NY\, USA) and an MFA from Goldsmiths (London\, UK). \n\n  \n 
URL:https://deroffenemund.de/?tribe_events=nonknowledge-laughter-and-the-moving-image-group-2-day-3
LOCATION:Zoom
CATEGORIES:EVENTS,Non-knowledge, Laughter and The Moving Image
ATTACH;FMTTYPE=image/png:https://deroffenemund.de/wp-content/uploads/2020/10/KHN_img8.png
END:VEVENT
END:VCALENDAR