BEGIN:VCALENDAR
VERSION:2.0
PRODID:-//DER OFFENE MUND - ECPv5.2.0//NONSGML v1.0//EN
CALSCALE:GREGORIAN
METHOD:PUBLISH
X-WR-CALNAME:DER OFFENE MUND
X-ORIGINAL-URL:https://deroffenemund.de
X-WR-CALDESC:Events for DER OFFENE MUND
BEGIN:VTIMEZONE
TZID:Europe/Berlin
BEGIN:DAYLIGHT
TZOFFSETFROM:+0100
TZOFFSETTO:+0200
TZNAME:CEST
DTSTART:20200329T010000
END:DAYLIGHT
BEGIN:STANDARD
TZOFFSETFROM:+0200
TZOFFSETTO:+0100
TZNAME:CET
DTSTART:20201025T010000
END:STANDARD
END:VTIMEZONE
BEGIN:VEVENT
DTSTART;TZID=Europe/Berlin:20201110T110000
DTEND;TZID=Europe/Berlin:20201110T140000
DTSTAMP:20260425T102737
CREATED:20201022T095307Z
LAST-MODIFIED:20201110T203318Z
UID:274-1605006000-1605016800@deroffenemund.de
SUMMARY:Nonknowledge\, Laughter and The Moving Image\, Group 1 Day 1
DESCRIPTION:You need to login to view this content. Please Login. Not a Member? Join Us
URL:https://deroffenemund.de/?tribe_events=nonknowledge-laughter-and-the-moving-image-01
LOCATION:Raum 11
CATEGORIES:Non-knowledge, Laughter and The Moving Image
ATTACH;FMTTYPE=image/jpeg:https://deroffenemund.de/wp-content/uploads/2020/10/Untitled.jpg
END:VEVENT
END:VCALENDAR