BEGIN:VCALENDAR
VERSION:2.0
PRODID:-//DER OFFENE MUND - ECPv5.2.0//NONSGML v1.0//EN
CALSCALE:GREGORIAN
METHOD:PUBLISH
X-WR-CALNAME:DER OFFENE MUND
X-ORIGINAL-URL:https://deroffenemund.de
X-WR-CALDESC:Events for DER OFFENE MUND
BEGIN:VTIMEZONE
TZID:Europe/Berlin
BEGIN:DAYLIGHT
TZOFFSETFROM:+0100
TZOFFSETTO:+0200
TZNAME:CEST
DTSTART:20200329T010000
END:DAYLIGHT
BEGIN:STANDARD
TZOFFSETFROM:+0200
TZOFFSETTO:+0100
TZNAME:CET
DTSTART:20201025T010000
END:STANDARD
END:VTIMEZONE
BEGIN:VEVENT
DTSTART;TZID=Europe/Berlin:20201124T110000
DTEND;TZID=Europe/Berlin:20201124T140000
DTSTAMP:20260425T102608
CREATED:20201022T133117Z
LAST-MODIFIED:20201110T205506Z
UID:292-1606215600-1606226400@deroffenemund.de
SUMMARY:Non-knowledge\, Laughter and The Moving Image\, Group 1  Day 3
DESCRIPTION:You need to login to view this content. Please Login. Not a Member? Join Us
URL:https://deroffenemund.de/?tribe_events=non-knowledgelaughter-and-the-moving-image
LOCATION:Raum 11
CATEGORIES:Non-knowledge, Laughter and The Moving Image
END:VEVENT
END:VCALENDAR