BEGIN:VCALENDAR
VERSION:2.0
PRODID:-//DER OFFENE MUND - ECPv5.2.0//NONSGML v1.0//EN
CALSCALE:GREGORIAN
METHOD:PUBLISH
X-WR-CALNAME:DER OFFENE MUND
X-ORIGINAL-URL:https://deroffenemund.de
X-WR-CALDESC:Events for DER OFFENE MUND
BEGIN:VTIMEZONE
TZID:Europe/Berlin
BEGIN:DAYLIGHT
TZOFFSETFROM:+0100
TZOFFSETTO:+0200
TZNAME:CEST
DTSTART:20210328T010000
END:DAYLIGHT
BEGIN:STANDARD
TZOFFSETFROM:+0200
TZOFFSETTO:+0100
TZNAME:CET
DTSTART:20211031T010000
END:STANDARD
END:VTIMEZONE
BEGIN:VEVENT
DTSTART;TZID=Europe/Berlin:20210111T130000
DTEND;TZID=Europe/Berlin:20210111T173000
DTSTAMP:20260421T155257
CREATED:20201022T153630Z
LAST-MODIFIED:20201108T153858Z
UID:353-1610370000-1610386200@deroffenemund.de
SUMMARY:Gruppentreffen Klasse Larsson
DESCRIPTION:
URL:https://deroffenemund.de/?tribe_events=gruppentreffen-klasse-larsson-7
LOCATION:tba
CATEGORIES:Klasse Larsson
END:VEVENT
END:VCALENDAR