BEGIN:VCALENDAR
VERSION:2.0
PRODID:-//DER OFFENE MUND - ECPv5.2.0//NONSGML v1.0//EN
CALSCALE:GREGORIAN
METHOD:PUBLISH
X-WR-CALNAME:DER OFFENE MUND
X-ORIGINAL-URL:https://deroffenemund.de
X-WR-CALDESC:Events for DER OFFENE MUND
BEGIN:VTIMEZONE
TZID:Europe/Berlin
BEGIN:DAYLIGHT
TZOFFSETFROM:+0100
TZOFFSETTO:+0200
TZNAME:CEST
DTSTART:20200329T010000
END:DAYLIGHT
BEGIN:STANDARD
TZOFFSETFROM:+0200
TZOFFSETTO:+0100
TZNAME:CET
DTSTART:20201025T010000
END:STANDARD
END:VTIMEZONE
BEGIN:VEVENT
DTSTART;TZID=Europe/Berlin:20201123T130000
DTEND;TZID=Europe/Berlin:20201123T173000
DTSTAMP:20260425T114515
CREATED:20201022T153224Z
LAST-MODIFIED:20201108T153555Z
UID:345-1606136400-1606152600@deroffenemund.de
SUMMARY:Gruppentreffen Klasse Larsson
DESCRIPTION:
URL:https://deroffenemund.de/?tribe_events=gruppentreffen-klasse-larsson-3
LOCATION:tba
CATEGORIES:Klasse Larsson
END:VEVENT
END:VCALENDAR