BEGIN:VCALENDAR
VERSION:2.0
PRODID:-//DER OFFENE MUND - ECPv5.2.0//NONSGML v1.0//EN
CALSCALE:GREGORIAN
METHOD:PUBLISH
X-WR-CALNAME:DER OFFENE MUND
X-ORIGINAL-URL:https://deroffenemund.de
X-WR-CALDESC:Events for DER OFFENE MUND
BEGIN:VTIMEZONE
TZID:UTC
BEGIN:STANDARD
TZOFFSETFROM:+0000
TZOFFSETTO:+0000
TZNAME:UTC
DTSTART:20210101T000000
END:STANDARD
END:VTIMEZONE
BEGIN:VEVENT
DTSTART;TZID=UTC:20210125T180000
DTEND;TZID=UTC:20210125T200000
DTSTAMP:20260421T142926
CREATED:20210113T141702Z
LAST-MODIFIED:20210119T192658Z
UID:764-1611597600-1611604800@deroffenemund.de
SUMMARY:DER OFFENE MUND meeting
DESCRIPTION:
URL:https://deroffenemund.de/?tribe_events=der-offene-mund-meeting
LOCATION:online BBB
CATEGORIES:Der Offene Mund
END:VEVENT
END:VCALENDAR