BEGIN:VCALENDAR
VERSION:2.0
PRODID:-//DER OFFENE MUND - ECPv5.2.0//NONSGML v1.0//EN
CALSCALE:GREGORIAN
METHOD:PUBLISH
X-WR-CALNAME:DER OFFENE MUND
X-ORIGINAL-URL:https://deroffenemund.de
X-WR-CALDESC:Events for DER OFFENE MUND
BEGIN:VTIMEZONE
TZID:UTC
BEGIN:STANDARD
TZOFFSETFROM:+0000
TZOFFSETTO:+0000
TZNAME:UTC
DTSTART:20210101T000000
END:STANDARD
TZID:Europe/Berlin
BEGIN:DAYLIGHT
TZOFFSETFROM:+0100
TZOFFSETTO:+0200
TZNAME:CEST
DTSTART:20210328T010000
END:DAYLIGHT
BEGIN:STANDARD
TZOFFSETFROM:+0200
TZOFFSETTO:+0100
TZNAME:CET
DTSTART:20211031T010000
END:STANDARD
BEGIN:DAYLIGHT
TZOFFSETFROM:+0100
TZOFFSETTO:+0200
TZNAME:CEST
DTSTART:20220327T010000
END:DAYLIGHT
BEGIN:STANDARD
TZOFFSETFROM:+0200
TZOFFSETTO:+0100
TZNAME:CET
DTSTART:20221030T010000
END:STANDARD
END:VTIMEZONE
BEGIN:VEVENT
DTSTART;TZID=UTC:20220701T190000
DTEND;TZID=UTC:20220701T220000
DTSTAMP:20260421T130818
CREATED:20220615T120338Z
LAST-MODIFIED:20220625T074447Z
UID:1073-1656702000-1656712800@deroffenemund.de
SUMMARY:DER OFFENE MUND: A Non-exisiting CLUB (you didn't know you needed)
DESCRIPTION:19.00-23.00\nin HFBK Filmstudio\, Finkenau 35 \nwith Chris Hausdorf\, Miriam Heidenreich\,\nLuzie Ana Catalina Katzorke\, Soohyun Kim\, Aleksandra Stadnik\, Anna Stapelfeld\, Aliaxey Talstou\, Marie Topol\, Elisa Zeisler &\nDjoana Weimann a.o with Chris Hausdorf\, Miriam Heidenreich\,\nLuzie Ana Catalina Katzorke\, Soohyun Kim\, Aleksandra Stadnik\, Anna Stapelfeld\, Aliaxey Talstou\, Marie Topol\, Elisa Zeisler &\nDjoana Weimann a.o
URL:https://deroffenemund.de/?tribe_events=club-research-event
LOCATION:Filmstudio (Finkenau)
CATEGORIES:EVENTS
ATTACH;FMTTYPE=image/jpeg:https://deroffenemund.de/wp-content/uploads/2022/06/deroffenemund_club2-scaled.jpg
END:VEVENT
BEGIN:VEVENT
DTSTART;TZID=UTC:20220621T150000
DTEND;TZID=UTC:20220621T170000
DTSTAMP:20260421T130818
CREATED:20220402T080526Z
LAST-MODIFIED:20220615T120238Z
UID:1040-1655823600-1655830800@deroffenemund.de
SUMMARY:Club Research  Meeting
DESCRIPTION:Meeting for our Club Research Event
URL:https://deroffenemund.de/?tribe_events=party-research-event
END:VEVENT
BEGIN:VEVENT
DTSTART;TZID=UTC:20220620T190000
DTEND;TZID=UTC:20220620T190000
DTSTAMP:20260421T130818
CREATED:20220615T114737Z
LAST-MODIFIED:20220615T114853Z
UID:1066-1655751600-1655751600@deroffenemund.de
SUMMARY:Der Offene Mund: Bardia Esmaelloo - Function of Language - Performance
DESCRIPTION:Der Offene Mund:\nBardia Esmaelloo – Function of Language \nPerformance at 19.00 \nProjektraum Wartenau 3 o.g (neben dem Balkon)
URL:https://deroffenemund.de/?tribe_events=der-offene-mund-bardia-esmaelloo-function-of-language-performance
CATEGORIES:EVENTS
ATTACH;FMTTYPE=image/jpeg:https://deroffenemund.de/wp-content/uploads/2022/06/f-l-b-22-scaled.jpg
END:VEVENT
BEGIN:VEVENT
DTSTART;TZID=UTC:20220608T180000
DTEND;TZID=UTC:20220608T210000
DTSTAMP:20260421T130818
CREATED:20220402T075938Z
LAST-MODIFIED:20220526T130504Z
UID:1034-1654711200-1654722000@deroffenemund.de
SUMMARY:Wetlands\, Wetware and Hard drives - terrestrial vibrations
DESCRIPTION:Public Event\nDer Offene Mund: \n\nWetlands\, Wetware and Hard drives – terrestrial vibrations \nwith Alice Peragine\, Annika Larsson\, Clara Midon\, Jacopo Asam\, Jodok Humm\, Jori Kehn\, Jun Long\, Ki Bui\, Maxime Chabal\, Nina Gohl\, SeoIn Song\, Sojin Park\, Soohyun Kim\, Sophie Golly and Yuwen Huang.\n\n8 JUNE 2022\, 18.00-21.00 \n\n \nSTUDIO PERAGINE\, Versmannstraße 16\, in HafenCity\nDer Offene Mund is a series of events at HFBK Hamburg with students and invited guests\, a room for performance\, the moving image\, sound\, experimentation and socialization\, initiated by Annika Larsson and done in the frame of the artistic research project Non-knowledge\, Laughter & The Moving Image\, in collaboration with HFBK Hamburg and RIA Stockholm with financial support from The Swedish Research Council.\n 
URL:https://deroffenemund.de/?tribe_events=wetlands-wetware-and-hard-drives-terrestrial-vibrations
LOCATION:Studio Peragine
CATEGORIES:EVENTS
ATTACH;FMTTYPE=image/jpeg:https://deroffenemund.de/wp-content/uploads/2022/04/Poster-Wetlands-small.jpg
END:VEVENT
BEGIN:VEVENT
DTSTART;TZID=UTC:20220608T150000
DTEND;TZID=UTC:20220608T180000
DTSTAMP:20260421T130818
CREATED:20220526T130617Z
LAST-MODIFIED:20220526T130617Z
UID:1063-1654700400-1654711200@deroffenemund.de
SUMMARY:Wetlands\, Wetware and Hard drives - terrestrial vibrations (workshop)
DESCRIPTION:workshop leading up to our public event at 18.00
URL:https://deroffenemund.de/?tribe_events=wetlands-wetware-and-hard-drives-terrestrial-vibrations-workshop
END:VEVENT
BEGIN:VEVENT
DTSTART;TZID=UTC:20220607T150000
DTEND;TZID=UTC:20220607T210000
DTSTAMP:20260421T130818
CREATED:20220402T075816Z
LAST-MODIFIED:20220402T075816Z
UID:1032-1654614000-1654635600@deroffenemund.de
SUMMARY:Wetlands\, Wetware and Hard drives - terrestrial vibrations (workshop day)
DESCRIPTION:
URL:https://deroffenemund.de/?tribe_events=wetlands-wetware-and-hard-drives-terrestrial-vibrations-workshop-day
LOCATION:Studio Peragine
END:VEVENT
BEGIN:VEVENT
DTSTART;TZID=Europe/Berlin:20220506T150000
DTEND;TZID=Europe/Berlin:20220506T160000
DTSTAMP:20260421T130818
CREATED:20220429T134158Z
LAST-MODIFIED:20220505T114245Z
UID:1045-1651849200-1651852800@deroffenemund.de
SUMMARY:DER OFFENE MUND talks with Hannah Quinlan and Rosie Hastings
DESCRIPTION:DER OFFENE MUND talks with \nHannah Quinlan and Rosie Hastings\, \n6 May 2002\, 15.00 (CEST) \nOnline  (ZOOM) \nPlease Register at contact@deroffenemund.de to receive the for the link. \nHannah Quinlan and Rosie Hastings (both b.1991\, Newcastle and London) live and work in South-East London. Working across film\, drawing\, installation\, performance and fresco\, Hannah and Rosie address the sociocultural and political structures that reinforce conservatism and discriminatory practices within and around the LGBTQ+ community. Their work archives the politics\, histories and aesthetics of queer spaces and culture in the West\, and proposes strategies for the redistribution of power in relation to gender\, class and race. \nQuinlan and Hastings are represented by Arcadia Missa in London and Isabella Bortolozzi in Berlin. They are recipients of the 2020 Film London Jarman award and have presented their work at the Centre Pompidou\, MOSTYN\, Focal Point Gallery\, Pinchuk Art Centre\, Hayward Gallery\, Whitechapel Gallery\, ICA London\, and the Venice Architecture Biennale\, among others. Later this year\, they will have solo exhibitions at the Kunsthalle Osnabrück in Germany and Art Now at Tate Britain. \n 
URL:https://deroffenemund.de/?tribe_events=der-offene-mund-talks-with-hannah-quinlan-and-rosie-hasting-6-may-2002-15-00-cest
LOCATION:Online (Zoom)
CATEGORIES:EVENTS
ATTACH;FMTTYPE=image/jpeg:https://deroffenemund.de/wp-content/uploads/2022/04/220124_deroffenemund_artist-talk-scaled.jpg
END:VEVENT
BEGIN:VEVENT
DTSTART;TZID=UTC:20220426T150000
DTEND;TZID=UTC:20220426T210000
DTSTAMP:20260421T130818
CREATED:20220402T080245Z
LAST-MODIFIED:20220407T073515Z
UID:1037-1650985200-1651006800@deroffenemund.de
SUMMARY:Club Research (workshop day)
DESCRIPTION:more info soon \n  \nhttp://partyresearch.hotglue.me \n 
URL:https://deroffenemund.de/?tribe_events=party-research-workshop-day
END:VEVENT
BEGIN:VEVENT
DTSTART;TZID=UTC:20220405T150000
DTEND;TZID=UTC:20220405T210000
DTSTAMP:20260421T130818
CREATED:20220402T075653Z
LAST-MODIFIED:20220402T080031Z
UID:1028-1649170800-1649192400@deroffenemund.de
SUMMARY:Wetlands\, Wetware and Hard drives  - terrestrial vibrations (workhop day)
DESCRIPTION:3pm \nMeeting for particpants at Studio Peragine
URL:https://deroffenemund.de/?tribe_events=wetlands-wetware-and-hard-drives-terrestrial-vibrations-workhop-day
LOCATION:Studio Peragine
END:VEVENT
BEGIN:VEVENT
DTSTART;TZID=UTC:20220124T180000
DTEND;TZID=UTC:20220124T220000
DTSTAMP:20260421T130818
CREATED:20211118T082718Z
LAST-MODIFIED:20220203T083233Z
UID:1018-1643047200-1643061600@deroffenemund.de
SUMMARY:DER OFFENE MUND Event
DESCRIPTION:
URL:https://deroffenemund.de/?tribe_events=der-offene-mund-event-3
LOCATION:Aulavorhalle
ATTACH;FMTTYPE=image/png:https://deroffenemund.de/wp-content/uploads/2021/10/Screen-Shot-2022-02-03-at-09.27.54.png
END:VEVENT
BEGIN:VEVENT
DTSTART;TZID=UTC:20220118T190000
DTEND;TZID=UTC:20220118T210000
DTSTAMP:20260421T130818
CREATED:20211002T133723Z
LAST-MODIFIED:20220203T083341Z
UID:973-1642532400-1642539600@deroffenemund.de
SUMMARY:postponed:  Non-knowledge\, Laughter & The Moving Image presents: Steve Reinke/James Richards
DESCRIPTION:Screening & Conversation with the Artists
URL:https://deroffenemund.de/?tribe_events=non-knowledge-laughter-the-moving-image-presents-steve-reinke-james-richards
LOCATION:Aula (LE)
CATEGORIES:EVENTS
ATTACH;FMTTYPE=image/jpeg:https://deroffenemund.de/wp-content/uploads/2021/10/iu.jpg
END:VEVENT
BEGIN:VEVENT
DTSTART;TZID=UTC:20220117T180000
DTEND;TZID=UTC:20220117T200000
DTSTAMP:20260421T130818
CREATED:20211020T070257Z
LAST-MODIFIED:20211020T070257Z
UID:1010-1642442400-1642449600@deroffenemund.de
SUMMARY:DER OFFENE MUND Meeting
DESCRIPTION:
URL:https://deroffenemund.de/?tribe_events=der-offene-mund-meeting-9
LOCATION:Seminar-room (Wa)
END:VEVENT
BEGIN:VEVENT
DTSTART;TZID=UTC:20220110T180000
DTEND;TZID=UTC:20220110T200000
DTSTAMP:20260421T130818
CREATED:20211020T070107Z
LAST-MODIFIED:20211020T070107Z
UID:1008-1641837600-1641844800@deroffenemund.de
SUMMARY:DER OFFENE MUND Meeting
DESCRIPTION:
URL:https://deroffenemund.de/?tribe_events=der-offene-mund-meeting-8
END:VEVENT
BEGIN:VEVENT
DTSTART;TZID=UTC:20211217T180000
DTEND;TZID=UTC:20211217T220000
DTSTAMP:20260421T130818
CREATED:20211020T065801Z
LAST-MODIFIED:20220203T083213Z
UID:1002-1639764000-1639778400@deroffenemund.de
SUMMARY:DER OFFENE MUND Event
DESCRIPTION:
URL:https://deroffenemund.de/?tribe_events=der-offene-mund-event-2
LOCATION:HFBK Galerie
ATTACH;FMTTYPE=image/png:https://deroffenemund.de/wp-content/uploads/2021/10/Screen-Shot-2022-02-03-at-09.31.26.png
END:VEVENT
BEGIN:VEVENT
DTSTART;TZID=UTC:20211213T180000
DTEND;TZID=UTC:20211213T200000
DTSTAMP:20260421T130818
CREATED:20211020T065953Z
LAST-MODIFIED:20211020T065953Z
UID:1006-1639418400-1639425600@deroffenemund.de
SUMMARY:DER OFFENE Mund Meeting
DESCRIPTION:
URL:https://deroffenemund.de/?tribe_events=der-offene-mund-meeting-7
LOCATION:Seminar-room (Wa)
END:VEVENT
BEGIN:VEVENT
DTSTART;TZID=UTC:20211206T180000
DTEND;TZID=UTC:20211206T200000
DTSTAMP:20260421T130818
CREATED:20211020T065846Z
LAST-MODIFIED:20211020T065853Z
UID:1004-1638813600-1638820800@deroffenemund.de
SUMMARY:DER OFFENE MUND meeting
DESCRIPTION:
URL:https://deroffenemund.de/?tribe_events=der-offene-mund-meeting-6
LOCATION:Seminar-room (Wa)
END:VEVENT
BEGIN:VEVENT
DTSTART;TZID=UTC:20211129T180000
DTEND;TZID=UTC:20211129T210000
DTSTAMP:20260421T130818
CREATED:20211020T065700Z
LAST-MODIFIED:20211118T082753Z
UID:1000-1638208800-1638219600@deroffenemund.de
SUMMARY:DER OFFENE MUND Meeting
DESCRIPTION:
URL:https://deroffenemund.de/?tribe_events=der-offene-mund-event
LOCATION:Seminar-room (Wa)
END:VEVENT
BEGIN:VEVENT
DTSTART;TZID=UTC:20211123T190000
DTEND;TZID=UTC:20211123T210000
DTSTAMP:20260421T130818
CREATED:20210922T082646Z
LAST-MODIFIED:20211002T133414Z
UID:948-1637694000-1637701200@deroffenemund.de
SUMMARY:Non-knowledge\, Laughter & The Moving Image presents: Vika Kirchenbauer
DESCRIPTION:Screening & Conversation with the Artist
URL:https://deroffenemund.de/?tribe_events=non-knowledge-laughter-the-moving-image-presents-vika-kirchenbauer
LOCATION:Aula (LE)
CATEGORIES:EVENTS
ATTACH;FMTTYPE=image/jpeg:https://deroffenemund.de/wp-content/uploads/2021/09/id-20-untitled-sequence-of-gaps-stills-2020-03-31-1448x.jpg
END:VEVENT
BEGIN:VEVENT
DTSTART;TZID=UTC:20211122T180000
DTEND;TZID=UTC:20211122T200000
DTSTAMP:20260421T130818
CREATED:20211020T065507Z
LAST-MODIFIED:20211020T065507Z
UID:997-1637604000-1637611200@deroffenemund.de
SUMMARY:DER OFFENE MUND Meeting
DESCRIPTION:
URL:https://deroffenemund.de/?tribe_events=der-offene-mund-meeting-5
LOCATION:Seminar-room (Wa)
END:VEVENT
BEGIN:VEVENT
DTSTART;TZID=UTC:20211115T180000
DTEND;TZID=UTC:20211115T190000
DTSTAMP:20260421T130818
CREATED:20211020T065313Z
LAST-MODIFIED:20211020T065313Z
UID:995-1636999200-1637002800@deroffenemund.de
SUMMARY:DER OFFENE MUND online treffen
DESCRIPTION:
URL:https://deroffenemund.de/?tribe_events=der-offene-mund-online-treffen
LOCATION:Online (Zoom)
END:VEVENT
BEGIN:VEVENT
DTSTART;TZID=UTC:20211112T190000
DTEND;TZID=UTC:20211112T210000
DTSTAMP:20260421T130818
CREATED:20211020T064504Z
LAST-MODIFIED:20211105T084313Z
UID:985-1636743600-1636750800@deroffenemund.de
SUMMARY:Performance Adam Christensen / Deniz Ünal at Kunstverein Harburger Bahnhof
DESCRIPTION:
URL:https://deroffenemund.de/?tribe_events=performance-adam-christensen-deniz-unal-at-kunstverein-harburger-bahnhof
LOCATION:Kunstverein Harburger Bahnhof
ATTACH;FMTTYPE=image/jpeg:https://deroffenemund.de/wp-content/uploads/2021/10/514878.jpg
END:VEVENT
BEGIN:VEVENT
DTSTART;TZID=UTC:20211111T150000
DTEND;TZID=UTC:20211111T163000
DTSTAMP:20260421T130818
CREATED:20211020T064218Z
LAST-MODIFIED:20211105T084329Z
UID:981-1636642800-1636648200@deroffenemund.de
SUMMARY:Der Offene Mund: Artist Talk with Adam Christenssen / Deniz Ünal
DESCRIPTION:
URL:https://deroffenemund.de/?tribe_events=der-offene-mund-artist-talk-with-adam-christenssen-deniz-unal
LOCATION:Kunstverein Harburger Bahnhof
ATTACH;FMTTYPE=image/jpeg:https://deroffenemund.de/wp-content/uploads/2021/10/download.jpeg
END:VEVENT
BEGIN:VEVENT
DTSTART;TZID=UTC:20211109T150000
DTEND;TZID=UTC:20211109T200000
DTSTAMP:20260421T130818
CREATED:20211020T065142Z
LAST-MODIFIED:20211020T065142Z
UID:992-1636470000-1636488000@deroffenemund.de
SUMMARY:DER OFFENE MUND: Upholster workshop (part 2)
DESCRIPTION:
URL:https://deroffenemund.de/?tribe_events=der-offene-mund-upholster-workshop-part-2
ATTACH;FMTTYPE=image/jpeg:https://deroffenemund.de/wp-content/uploads/2021/10/Photo-3-sloppy-loops-on-back300.1.jpg
END:VEVENT
BEGIN:VEVENT
DTSTART;TZID=UTC:20211108T180000
DTEND;TZID=UTC:20211108T210000
DTSTAMP:20260421T130818
CREATED:20211020T064754Z
LAST-MODIFIED:20211020T064855Z
UID:987-1636394400-1636405200@deroffenemund.de
SUMMARY:Der Offene Mund upholster workshop (part 1)
DESCRIPTION:
URL:https://deroffenemund.de/?tribe_events=der-offene-mund-polster-workshop-part-1
LOCATION:Seminar-room (Wa)
ATTACH;FMTTYPE=image/jpeg:https://deroffenemund.de/wp-content/uploads/2021/10/Franz-West-Adaptives-500x208-1.jpg
END:VEVENT
BEGIN:VEVENT
DTSTART;TZID=UTC:20211025T180000
DTEND;TZID=UTC:20211025T220000
DTSTAMP:20260421T130818
CREATED:20211002T134115Z
LAST-MODIFIED:20211020T065540Z
UID:976-1635184800-1635199200@deroffenemund.de
SUMMARY:DER OFFENE MUND EVENT
DESCRIPTION:
URL:https://deroffenemund.de/?tribe_events=der-offene-mund
LOCATION:Aulavorhalle
CATEGORIES:Der Offene Mund,Der Offene Mund Events,EVENTS
ATTACH;FMTTYPE=image/jpeg:https://deroffenemund.de/wp-content/uploads/2021/10/IMG_5701.jpg
END:VEVENT
BEGIN:VEVENT
DTSTART;TZID=UTC:20210614T210000
DTEND;TZID=UTC:20210614T230000
DTSTAMP:20260421T130818
CREATED:20210606T202907Z
LAST-MODIFIED:20210606T202945Z
UID:882-1623704400-1623711600@deroffenemund.de
SUMMARY:Der Offene Mund: GROTESQUE BURLESQUE
DESCRIPTION:Der Offene Mund GROTESQUE BURLESQUE \n  \nLive\n# offenermundhfbk\nhttps://www.instagram.com/offenermundhfbk/ \nwith Priyanka Sarkar\, Nick Wachs &\nHelena Aljona Kuhn\nLive streaming by Hendrik Nowak\nSounds by Frida Rahne \n 
URL:https://deroffenemund.de/?tribe_events=der-offene-mund-grotesque-burlesque
LOCATION:Online: Instagram
ATTACH;FMTTYPE=image/jpeg:https://deroffenemund.de/wp-content/uploads/2021/06/191026_deroffenemund_garden-burlesque-2-scaled.jpg
END:VEVENT
BEGIN:VEVENT
DTSTART;TZID=UTC:20210607T200000
DTEND;TZID=UTC:20210607T210000
DTSTAMP:20260421T130818
CREATED:20210606T202557Z
LAST-MODIFIED:20210606T202557Z
UID:878-1623096000-1623099600@deroffenemund.de
SUMMARY:Der Offene Mund: Live from the Garden with Bonjour Madame
DESCRIPTION:“Der Offene Mund” \nLive from the Garden with Bonjour Madame \n\n7.6.2021   20.00-21.00\nWhere: https://www.instagram.com/offenermundhfbk/ \n\nIn the Garden:  „Eigentum Kind“ – Djoana Weimann/Laurine von Boetticher\, „Manche Leute…“ – Aleksandra Stadnik\, Designing social infrastructures\,Ruth from Bonjour Madame\, Sophie Golly o.a
URL:https://deroffenemund.de/?tribe_events=der-offene-mund-live-from-the-garden-with-bonjour-madame
LOCATION:Online: Instagram
ATTACH;FMTTYPE=image/jpeg:https://deroffenemund.de/wp-content/uploads/2021/06/210607_deroffenemund_gardenBonjour-scaled.jpg
END:VEVENT
BEGIN:VEVENT
DTSTART;TZID=UTC:20210412T180000
DTEND;TZID=UTC:20210412T200000
DTSTAMP:20260421T130818
CREATED:20210225T082020Z
LAST-MODIFIED:20210403T082252Z
UID:804-1618250400-1618257600@deroffenemund.de
SUMMARY:DER OFFENE MUND Meeting 1 (SoSe21)
DESCRIPTION:Please sign up to the course to participate \n 
URL:https://deroffenemund.de/?tribe_events=der-offene-mund-meeting-1-sose21
LOCATION:online BBB
END:VEVENT
BEGIN:VEVENT
DTSTART;TZID=UTC:20210208T180000
DTEND;TZID=UTC:20210208T190000
DTSTAMP:20260421T130818
CREATED:20210113T141934Z
LAST-MODIFIED:20210119T192617Z
UID:769-1612807200-1612810800@deroffenemund.de
SUMMARY:DER OFFENE MUND meeting
DESCRIPTION:
URL:https://deroffenemund.de/?tribe_events=der-offene-mund-meeting-3
LOCATION:online BBB
CATEGORIES:Der Offene Mund
END:VEVENT
BEGIN:VEVENT
DTSTART;TZID=Europe/Berlin:20210202T110000
DTEND;TZID=Europe/Berlin:20210202T130000
DTSTAMP:20260421T130818
CREATED:20201022T160639Z
LAST-MODIFIED:20210119T083825Z
UID:375-1612263600-1612270800@deroffenemund.de
SUMMARY:Nonknowledge\, Laughter and The Moving Image\, Part 2 Day 4
DESCRIPTION:  \nOur meeting will be held online over BBB \nOnline Class room: https://bbb.hfbk.net/b/ann-xez-t2r \n 
URL:https://deroffenemund.de/?tribe_events=nonknowledge-laughter-and-the-moving-image-group-2-day-4
LOCATION:online BBB
CATEGORIES:Non-knowledge, Laughter and The Moving Image
END:VEVENT
END:VCALENDAR